BEGIN:VCALENDAR
VERSION:2.0
PRODID:-//Tukios.com/
BEGIN:VEVENT
UID:2574c8c7-1e41-4415-94ee-ead59f56db1e@www.hillsidefuneral.com
DTSTAMP:20260422T193619Z
DTSTART:20260424T130000Z
DTEND:20260424T143000Z
SUMMARY:Visitation
DESCRIPTION:
URL:https://www.hillsidefuneral.com/obituaries/laurencio-villarreal
LOCATION: 310 W Hillside Rd  Laredo TX 78041
GEO:27.546805;-99.492999
END:VEVENT
END:VCALENDAR