BEGIN:VCALENDAR
VERSION:2.0
PRODID:-//Tukios.com/
BEGIN:VEVENT
UID:280a3555-5d23-4f56-9360-ecf749c8b22b@www.hillsidefuneral.com
DTSTAMP:20260422T193849Z
DTSTART:20260424T150000Z
DTEND:20260424T160000Z
SUMMARY:Mass
DESCRIPTION:
URL:https://www.hillsidefuneral.com/obituaries/laurencio-villarreal
LOCATION:San Luis Rey Catholic Church 3502 Sanders Ave  Laredo TX 78040
GEO:27.5282665;-99.4949744
END:VEVENT
END:VCALENDAR