BEGIN:VCALENDAR
VERSION:2.0
PRODID:-//Tukios.com/
BEGIN:VEVENT
UID:e7d1ed0c-0470-4208-8a2c-557499879152@www.hillsidefuneral.com
DTSTAMP:20260422T193742Z
DTSTART:20260424T160000Z
DTEND:20260424T170000Z
SUMMARY:Burial
DESCRIPTION:
URL:https://www.hillsidefuneral.com/obituaries/laurencio-villarreal
LOCATION: 3601 McPherson Rd  Laredo TX 78041
GEO:27.5287537;-99.4845129
END:VEVENT
END:VCALENDAR