BEGIN:VCALENDAR
VERSION:2.0
PRODID:-//Tukios.com/
BEGIN:VEVENT
UID:62d8a785-5fd0-46f0-a50e-3d64da3a97b8@www.hillsidefuneral.com
DTSTAMP:20260422T193345Z
DTSTART:20260424T133000Z
DTEND:20260424T143000Z
SUMMARY:Rosary
DESCRIPTION:
URL:https://www.hillsidefuneral.com/obituaries/laurencio-villarreal
LOCATION: 310 Hillside Rd.  Laredo TX 78041
GEO:27.5466935;-99.4929321
END:VEVENT
END:VCALENDAR