BEGIN:VCALENDAR
VERSION:2.0
PRODID:-//Tukios.com/
BEGIN:VEVENT
UID:4e5d924c-22d2-4787-9b9a-8734b30469c7@www.hillsidefuneral.com
DTSTAMP:20260420T214200Z
DTSTART:20260422T120000Z
DTEND:20260422T130000Z
SUMMARY:Funeral Service
DESCRIPTION:
URL:https://www.hillsidefuneral.com/obituaries/rosaura-alfaro
LOCATION:Hillside Funerals and Cremations 310 W Hillside Rd  Laredo TX 
	78041
GEO:27.546805;-99.492999
END:VEVENT
END:VCALENDAR