BEGIN:VCALENDAR
VERSION:2.0
PRODID:-//Tukios.com/
BEGIN:VEVENT
UID:12f89b0c-2068-406f-91bc-d136001ba128@www.hillsidefuneral.com
DTSTAMP:20260420T214752Z
DTSTART:20260422T143000Z
DTEND:20260422T153000Z
SUMMARY:Mass
DESCRIPTION:
URL:https://www.hillsidefuneral.com/obituaries/rosaura-alfaro
LOCATION:St. Joseph Catholic Church 109 N Meadow Ave  Laredo TX 78040
GEO:27.496981;-99.4801618
END:VEVENT
END:VCALENDAR